BEGIN:VCALENDAR
VERSION:2.0
PRODID:-//Dietisten Cooperatie Nederland - ECPv6.15.11//NONSGML v1.0//EN
CALSCALE:GREGORIAN
METHOD:PUBLISH
X-WR-CALNAME:Dietisten Cooperatie Nederland
X-ORIGINAL-URL:https://dcn-dietist.nl
X-WR-CALDESC:Evenementen voor Dietisten Cooperatie Nederland
REFRESH-INTERVAL;VALUE=DURATION:PT1H
X-Robots-Tag:noindex
X-PUBLISHED-TTL:PT1H
BEGIN:VTIMEZONE
TZID:Europe/Amsterdam
BEGIN:DAYLIGHT
TZOFFSETFROM:+0100
TZOFFSETTO:+0200
TZNAME:CEST
DTSTART:20240331T010000
END:DAYLIGHT
BEGIN:STANDARD
TZOFFSETFROM:+0200
TZOFFSETTO:+0100
TZNAME:CET
DTSTART:20241027T010000
END:STANDARD
BEGIN:DAYLIGHT
TZOFFSETFROM:+0100
TZOFFSETTO:+0200
TZNAME:CEST
DTSTART:20250330T010000
END:DAYLIGHT
BEGIN:STANDARD
TZOFFSETFROM:+0200
TZOFFSETTO:+0100
TZNAME:CET
DTSTART:20251026T010000
END:STANDARD
BEGIN:DAYLIGHT
TZOFFSETFROM:+0100
TZOFFSETTO:+0200
TZNAME:CEST
DTSTART:20260329T010000
END:DAYLIGHT
BEGIN:STANDARD
TZOFFSETFROM:+0200
TZOFFSETTO:+0100
TZNAME:CET
DTSTART:20261025T010000
END:STANDARD
END:VTIMEZONE
BEGIN:VEVENT
DTSTART;VALUE=DATE:20250910
DTEND;VALUE=DATE:20250911
DTSTAMP:20260422T022004
CREATED:20241015T141658Z
LAST-MODIFIED:20250510T093232Z
UID:61089-1757462400-1757548799@dcn-dietist.nl
SUMMARY:DCN Academy
DESCRIPTION:Schrijf je hier in
URL:https://dcn-dietist.nl/evenement/dcn-academy-3/
LOCATION:van der Valk Veenendaal
ATTACH;FMTTYPE=image/jpeg:https://dcn-dietist.nl/wp-content/uploads/2018/11/DCN-Academy-productcategorie-400-600-e1641295795307.jpg
END:VEVENT
BEGIN:VEVENT
DTSTART;TZID=Europe/Amsterdam:20250917T193000
DTEND;TZID=Europe/Amsterdam:20250917T210000
DTSTAMP:20260422T022004
CREATED:20250708T195845Z
LAST-MODIFIED:20250710T112255Z
UID:61964-1758137400-1758142800@dcn-dietist.nl
SUMMARY:Webinar opzetten eigen praktijk
DESCRIPTION:Voor studenten en pas afgestudeerden\, die een eigen praktijk in de eerstelijnszorg overwegen\, organiseren wij een webinar. \n\nMarjolijn Hut bespreekt wat er komt kijken bij de opzet van een eigen praktijk en vertelt over haar ervaringen.\nKosten: geen\nAanmelden kan hier\n\n 
URL:https://dcn-dietist.nl/evenement/webinar-opzetten-eigen-praktijk/
LOCATION:Online
ATTACH;FMTTYPE=image/jpeg:https://dcn-dietist.nl/wp-content/uploads/2023/10/marjolein-scaled.jpg
END:VEVENT
BEGIN:VEVENT
DTSTART;TZID=Europe/Amsterdam:20250929T193000
DTEND;TZID=Europe/Amsterdam:20250929T210000
DTSTAMP:20260422T022004
CREATED:20250618T151042Z
LAST-MODIFIED:20250618T151822Z
UID:61876-1759174200-1759179600@dcn-dietist.nl
SUMMARY:Webinar Ketogeen Dieet Therapie\, wetenschappelijke onderbouwing en praktische toepassing\, door Elles van der Louw
DESCRIPTION:lees hier meer
URL:https://dcn-dietist.nl/evenement/ketogeen-dieet-therapie-wetenschappelijke-onderbouwing-en-praktische-toepassing/
LOCATION:Online
ATTACH;FMTTYPE=image/jpeg:https://dcn-dietist.nl/wp-content/uploads/2022/01/elles3.jpg
END:VEVENT
END:VCALENDAR