BEGIN:VCALENDAR
VERSION:2.0
PRODID:-//Dietisten Cooperatie Nederland - ECPv6.15.11//NONSGML v1.0//EN
CALSCALE:GREGORIAN
METHOD:PUBLISH
X-WR-CALNAME:Dietisten Cooperatie Nederland
X-ORIGINAL-URL:https://dcn-dietist.nl
X-WR-CALDESC:Evenementen voor Dietisten Cooperatie Nederland
REFRESH-INTERVAL;VALUE=DURATION:PT1H
X-Robots-Tag:noindex
X-PUBLISHED-TTL:PT1H
BEGIN:VTIMEZONE
TZID:Europe/Amsterdam
BEGIN:DAYLIGHT
TZOFFSETFROM:+0100
TZOFFSETTO:+0200
TZNAME:CEST
DTSTART:20250330T010000
END:DAYLIGHT
BEGIN:STANDARD
TZOFFSETFROM:+0200
TZOFFSETTO:+0100
TZNAME:CET
DTSTART:20251026T010000
END:STANDARD
BEGIN:DAYLIGHT
TZOFFSETFROM:+0100
TZOFFSETTO:+0200
TZNAME:CEST
DTSTART:20260329T010000
END:DAYLIGHT
BEGIN:STANDARD
TZOFFSETFROM:+0200
TZOFFSETTO:+0100
TZNAME:CET
DTSTART:20261025T010000
END:STANDARD
BEGIN:DAYLIGHT
TZOFFSETFROM:+0100
TZOFFSETTO:+0200
TZNAME:CEST
DTSTART:20270328T010000
END:DAYLIGHT
BEGIN:STANDARD
TZOFFSETFROM:+0200
TZOFFSETTO:+0100
TZNAME:CET
DTSTART:20271031T010000
END:STANDARD
END:VTIMEZONE
BEGIN:VEVENT
DTSTART;TZID=Europe/Amsterdam:20260330T193000
DTEND;TZID=Europe/Amsterdam:20260330T210000
DTSTAMP:20260421T172256
CREATED:20260210T141011Z
LAST-MODIFIED:20260210T141321Z
UID:62529-1774899000-1774904400@dcn-dietist.nl
SUMMARY:Verdiepingswebinar meten spiermassa en spierfunctie met Dr. Wesley Visser\,  diëtist en onderzoeker Erasmus MC
DESCRIPTION:
URL:https://dcn-dietist.nl/evenement/verdiepingswebinar-meten-spiermassa-en-spierfunctie-met-wesley-visser/
LOCATION:Online
ATTACH;FMTTYPE=image/jpeg:https://dcn-dietist.nl/wp-content/uploads/2026/02/Visser-Wesley.jpg
ORGANIZER;CN="DCN":MAILTO:bestuurdcn@gmail.com
END:VEVENT
END:VCALENDAR