BEGIN:VCALENDAR
VERSION:2.0
PRODID:-//Dietisten Cooperatie Nederland - ECPv6.15.11//NONSGML v1.0//EN
CALSCALE:GREGORIAN
METHOD:PUBLISH
X-ORIGINAL-URL:https://dcn-dietist.nl
X-WR-CALDESC:Evenementen voor Dietisten Cooperatie Nederland
REFRESH-INTERVAL;VALUE=DURATION:PT1H
X-Robots-Tag:noindex
X-PUBLISHED-TTL:PT1H
BEGIN:VTIMEZONE
TZID:Europe/Amsterdam
BEGIN:DAYLIGHT
TZOFFSETFROM:+0100
TZOFFSETTO:+0200
TZNAME:CEST
DTSTART:20240331T010000
END:DAYLIGHT
BEGIN:STANDARD
TZOFFSETFROM:+0200
TZOFFSETTO:+0100
TZNAME:CET
DTSTART:20241027T010000
END:STANDARD
BEGIN:DAYLIGHT
TZOFFSETFROM:+0100
TZOFFSETTO:+0200
TZNAME:CEST
DTSTART:20250330T010000
END:DAYLIGHT
BEGIN:STANDARD
TZOFFSETFROM:+0200
TZOFFSETTO:+0100
TZNAME:CET
DTSTART:20251026T010000
END:STANDARD
BEGIN:DAYLIGHT
TZOFFSETFROM:+0100
TZOFFSETTO:+0200
TZNAME:CEST
DTSTART:20260329T010000
END:DAYLIGHT
BEGIN:STANDARD
TZOFFSETFROM:+0200
TZOFFSETTO:+0100
TZNAME:CET
DTSTART:20261025T010000
END:STANDARD
END:VTIMEZONE
BEGIN:VEVENT
DTSTART;TZID=Europe/Amsterdam:20251007T193000
DTEND;TZID=Europe/Amsterdam:20251007T210000
DTSTAMP:20260422T021435
CREATED:20241210T163048Z
LAST-MODIFIED:20250618T151945Z
UID:61299-1759865400-1759870800@dcn-dietist.nl
SUMMARY:Webinar 'Zelfmanagement-ondersteuning met het Voedings-en Leefstijlboek'
DESCRIPTION:Deze webinars zijn een onderdeel van de scholing' Zelfmanagement-ondersteuning met het Voedings-en Leefstijlboek'  lees hier meer. In deze webinars wordt aan de hand van casuïstiek ingegaan op de toepassing in de praktijk. Tijdens het eerste webinar gebeurd dit aan de hand van een vooraf gekozen casus. Voor het tweede webinar wordt verwacht dat je in je eigen werkomgeving hebt gewerkt met het boek en je ervaring hierover deelt met de andere deelnemers.
URL:https://dcn-dietist.nl/evenement/webinar-zelfmanagement-ondersteuning-met-het-voedings-en-leefstijlboek-2/
LOCATION:Online
ATTACH;FMTTYPE=image/png:https://dcn-dietist.nl/wp-content/uploads/2024/06/Schermafdruk-2024-06-25-13.42.16.png
END:VEVENT
BEGIN:VEVENT
DTSTART;TZID=Europe/Amsterdam:20251007T193000
DTEND;TZID=Europe/Amsterdam:20251007T210000
DTSTAMP:20260422T021435
CREATED:20250619T194157Z
LAST-MODIFIED:20250619T194459Z
UID:61901-1759865400-1759870800@dcn-dietist.nl
SUMMARY:Bravo Leefstijlfactoren & Leefstijlcoaching\, casuïstiekbespreking
DESCRIPTION:lees meer
URL:https://dcn-dietist.nl/evenement/bravo-leefstijlfactoren-leefstijlcoaching-casuistiekbespreking/
LOCATION:Online
ATTACH;FMTTYPE=image/jpeg:https://dcn-dietist.nl/wp-content/uploads/2022/02/Chalkboard_Leefstijl1.jpg
END:VEVENT
END:VCALENDAR